BEGIN:VCALENDAR
VERSION:2.0
PRODID:EVENTFROG//EVENT//ICAL
BEGIN:VEVENT
UID:20260424T084907Z-7439082003478111477@eventfrog.de
DTSTAMP:20260424T084907Z
DTSTART:20260510T100000Z
DTEND:20260510T103000Z
SUMMARY:Sonntagsbrunch mit Mathias Landtwing Quartett
DESCRIPTION:Frisch, frech & eigenständig!\n\nhttps://eventfrog.de/de/p/konzerte/sonntagsbrunch-mit-mathias-landtwing-quartett-7439082003478111477.html
LOCATION:Dimensione
GEO:47.499441;8.732479
URL:https://eventfrog.de/de/p/konzerte/sonntagsbrunch-mit-mathias-landtwing-quartett-7439082003478111477.html
END:VEVENT
END:VCALENDAR