BEGIN:VCALENDAR
VERSION:2.0
PRODID:EVENTFROG//EVENT//ICAL
BEGIN:VEVENT
UID:20260424T080428Z-7439163885700001877@eventfrog.de
DTSTAMP:20260424T080428Z
DTSTART:20260501T120000Z
DTEND:20260501T160000Z
SUMMARY:1.-Mai‑Feiertags‑Special: Gestalte deine eigene Mosaiklampe
DESCRIPTION:Im Herzstück Atelier Zürich gestaltest du in entspannter Atmosphäre eine Mosaiklampe mit persönlicher Anleitung. Als 1. Mai-Special bekommst du einen Prosecco oder ein alkoholfreies Getränk dazu.\n\nhttps://eventfrog.de/de/p/kurse-seminare/freizeit-hobby/1-maifeiertagsspecial-gestalte-deine-eigene-mosaiklampe-7439163885700001877.html
LOCATION:Herzstück - Kreative Workshops
GEO:47.360213;8.565357
URL:https://eventfrog.de/de/p/kurse-seminare/freizeit-hobby/1-maifeiertagsspecial-gestalte-deine-eigene-mosaiklampe-7439163885700001877.html
END:VEVENT
END:VCALENDAR