BEGIN:VCALENDAR
VERSION:2.0
PRODID:EVENTFROG//EVENT//ICAL
BEGIN:VEVENT
UID:20260422T175948Z-7439398067810395121@eventfrog.de
DTSTAMP:20260422T175948Z
DTSTART:20260425T080000Z
DTEND:20260425T140000Z
SUMMARY:Flohmarkt und Trödel
DESCRIPTION:Flohmarkt und Trödel in Bühler -Münster für Groß und Klein \n\n\nhttps://eventfrog.de/de/p/maerkte/flohmarkt/flohmarkt-und-troedel-7439398067810395121.html
LOCATION:Sportheim Bühler
GEO:50.013811;9.863291
URL:https://eventfrog.de/de/p/maerkte/flohmarkt/flohmarkt-und-troedel-7439398067810395121.html
END:VEVENT
END:VCALENDAR