BEGIN:VCALENDAR
VERSION:2.0
PRODID:EVENTFROG//EVENT//ICAL
BEGIN:VEVENT
UID:20260425T192351Z-7439444449707489499@eventfrog.de
DTSTAMP:20260425T192351Z
DTSTART:20260425T180000Z
SUMMARY:Samar by Rigolo
DESCRIPTION:Zeitgenössischer Tanz und Luftakrobatik.\n\nhttps://eventfrog.de/de/p/theater-buehne/samar-by-rigolo-7439444449707489499.html
LOCATION:Phönix Theater
GEO:47.664572;8.975298
URL:https://eventfrog.de/de/p/theater-buehne/samar-by-rigolo-7439444449707489499.html
END:VEVENT
END:VCALENDAR