BEGIN:VCALENDAR
VERSION:2.0
PRODID:EVENTFROG//EVENT//ICAL
BEGIN:VEVENT
UID:20260424T093205Z-7439688881404945528@eventfrog.de
DTSTAMP:20260424T093205Z
DTSTART:20260612T120000Z
DTEND:20260612T150000Z
SUMMARY:Kunsthandwerkerin im Museum
DESCRIPTION:Kunsthandwerkerin im Museum\n\nhttps://eventfrog.de/de/p/wissenschaft-und-technik/kunsthandwerkerin-im-museum-7439688881404945528.html
LOCATION:Museum Appenzell
GEO:47.330788;9.408760
URL:https://eventfrog.de/de/p/wissenschaft-und-technik/kunsthandwerkerin-im-museum-7439688881404945528.html
END:VEVENT
END:VCALENDAR