BEGIN:VCALENDAR
VERSION:2.0
PRODID:EVENTFROG//EVENT//ICAL
BEGIN:VEVENT
UID:20260424T065531Z-7439695348707100307@eventfrog.de
DTSTAMP:20260424T065531Z
DTSTART:20260605T173000Z
SUMMARY:Leo Bandnight
DESCRIPTION:Bandnight \n\nhttps://eventfrog.de/de/p/konzerte/weitere-musikrichtungen/leo-bandnight-7439695348707100307.html
LOCATION:Sudhaus Basel
GEO:47.558295;7.601070
URL:https://eventfrog.de/de/p/konzerte/weitere-musikrichtungen/leo-bandnight-7439695348707100307.html
END:VEVENT
END:VCALENDAR