BEGIN:VCALENDAR
VERSION:2.0
PRODID:EVENTFROG//EVENT//ICAL
BEGIN:VEVENT
UID:20260420T155017Z-7439718917218538155@eventfrog.de
DTSTAMP:20260420T155017Z
DTSTART:20260712T140000Z
DTEND:20260712T173000Z
SUMMARY:Felke Heilwaldbaden
DESCRIPTION:Entspanne und finde Ruhe beim Waldbaden. Erfahre, wie der Wald uns unterstützen kann. Mehr Infos unter www.fraudoktorwald.de. \n\nhttps://eventfrog.de/de/p/gesundheit-spiritualitaet/gesundheit-wohlbefinden/felke-heilwaldbaden-7439718917218538155.html
LOCATION:Wanderparkplatz Kurhaus am Maasberg
GEO:49.785231;7.645852
URL:https://eventfrog.de/de/p/gesundheit-spiritualitaet/gesundheit-wohlbefinden/felke-heilwaldbaden-7439718917218538155.html
END:VEVENT
END:VCALENDAR