BEGIN:VCALENDAR
VERSION:2.0
PRODID:EVENTFROG//EVENT//ICAL
BEGIN:VEVENT
UID:20260426T021138Z-7439970451235802300@eventfrog.de
DTSTAMP:20260426T021138Z
DTSTART:20260426T130000Z
DTEND:20260426T180000Z
SUMMARY:Tanzen am Sonntag mit Kaffee und Kuchen
DESCRIPTION:Sonntags Tanzvergnügen bei Kaffee und Kuchen. Schwingt das Tanzbein, amüsiert Euch und genießt das Wochenende. Gute Laune, Spaß und nette Leute erwarten Euch im Bamboleo Göppingen.\n\nhttps://eventfrog.de/de/p/partys/disco/tanzen-am-sonntag-mit-kaffee-und-kuchen-7439970451235802300.html
LOCATION:Bamboleo Göppingen
GEO:48.695933;9.656906
URL:https://eventfrog.de/de/p/partys/disco/tanzen-am-sonntag-mit-kaffee-und-kuchen-7439970451235802300.html
END:VEVENT
END:VCALENDAR