BEGIN:VCALENDAR
VERSION:2.0
PRODID:EVENTFROG//EVENT//ICAL
BEGIN:VEVENT
UID:20260424T065524Z-7440359343201992604@eventfrog.de
DTSTAMP:20260424T065524Z
DTSTART:20260614T130000Z
DTEND:20260614T150000Z
SUMMARY:Urban Dance Night 2026
DESCRIPTION:Tauche ein in die mitreissende Welt vom Hip-Hop und Breaking bei der spektakulären Schüleraufführung "Urban Dance Night" der Urban Dance World! \n\nhttps://eventfrog.de/de/p/musicals-shows/tanzshow/urban-dance-night-2026-7440359343201992604.html
LOCATION:Aula Kantonsschule Halde
GEO:46.848527;9.536316
URL:https://eventfrog.de/de/p/musicals-shows/tanzshow/urban-dance-night-2026-7440359343201992604.html
END:VEVENT
END:VCALENDAR