BEGIN:VCALENDAR
VERSION:2.0
PRODID:EVENTFROG//EVENT//ICAL
BEGIN:VEVENT
UID:20260425T205003Z-7440773353466525639@eventfrog.de
DTSTAMP:20260425T205003Z
DTSTART:20260726T173000Z
DTEND:20260726T200000Z
SUMMARY:HUSKIES im Herzen -  Dokumentarfilm Premiere
DESCRIPTION:HUSKIES IM HERZEN: Markus Casutt zeigt eindrucksvoll das Leben des Valser Raphael Illien mit Huskietouren im schwedischen Lappland.\n\nhttps://eventfrog.de/de/p/freizeit-ausfluege/film-kino/huskies-im-herzen-dokumentarfilm-premiere-7440773353466525639.html
LOCATION:Zentrum Glüs
GEO:46.616782;9.178698
URL:https://eventfrog.de/de/p/freizeit-ausfluege/film-kino/huskies-im-herzen-dokumentarfilm-premiere-7440773353466525639.html
END:VEVENT
END:VCALENDAR