BEGIN:VCALENDAR
VERSION:2.0
PRODID:EVENTFROG//EVENT//ICAL
BEGIN:VEVENT
UID:20260421T180614Z-7441211316906237450@eventfrog.de
DTSTAMP:20260421T180614Z
DTSTART:20260527T104500Z
DTEND:20260527T111500Z
SUMMARY:GaVid: Diagnostik & Versorgung für Sinnesbehinderte
DESCRIPTION:«GaViD» stärkt interdisziplinäre Diagnostik und ganzheitliche Betreuung von Menschen mit Hörsehbehinderung.\n\nhttps://eventfrog.de/de/p/fuehrungen-vortraege/vortrag/gavid-diagnostik-versorgung-fuer-sinnesbehinderte-7441211316906237450.html
LOCATION:Hybrid - Online oder Kap Europa, Frankfurt a.M.
URL:https://eventfrog.de/de/p/fuehrungen-vortraege/vortrag/gavid-diagnostik-versorgung-fuer-sinnesbehinderte-7441211316906237450.html
END:VEVENT
END:VCALENDAR