BEGIN:VCALENDAR
VERSION:2.0
PRODID:EVENTFROG//EVENT//ICAL
BEGIN:VEVENT
UID:20260421T180647Z-7441218421017068579@eventfrog.de
DTSTAMP:20260421T180647Z
DTSTART:20260527T131500Z
DTEND:20260527T134500Z
SUMMARY:Digitalexperten der PRO RETINA stellen ihre Hilfsmittel vor
DESCRIPTION:PRO RETINA erweitert ihr Beratungsnetzwerk für Menschen mit Sehbehinderung um Digitalexpertinnen und -experten.\n\nhttps://eventfrog.de/de/p/fuehrungen-vortraege/vortrag/digitalexperten-der-pro-retina-stellen-ihre-hilfsmittel-vor-7441218421017068579.html
LOCATION:Hybrid - Online oder Kap Europa, Frankfurt a.M.
URL:https://eventfrog.de/de/p/fuehrungen-vortraege/vortrag/digitalexperten-der-pro-retina-stellen-ihre-hilfsmittel-vor-7441218421017068579.html
END:VEVENT
END:VCALENDAR