BEGIN:VCALENDAR
VERSION:2.0
PRODID:EVENTFROG//EVENT//ICAL
BEGIN:VEVENT
UID:20260421T180722Z-7441392332266582151@eventfrog.de
DTSTAMP:20260421T180722Z
DTSTART:20260527T144500Z
DTEND:20260527T151500Z
SUMMARY:PRO RETINA Stiftung  - Forschung fördern, Zukunft gestalten
DESCRIPTION:Die PRO RETINA Stiftung informiert über ihre Forschung zur Behandlung fortschreitender Netzhauterkrankungen und Sehverlustprävention.\n\nhttps://eventfrog.de/de/p/fuehrungen-vortraege/vortrag/pro-retina-stiftung-forschung-foerdern-zukunft-gestalten-7441392332266582151.html
LOCATION:Hybrid - Online oder Kap Europa, Frankfurt a.M.
URL:https://eventfrog.de/de/p/fuehrungen-vortraege/vortrag/pro-retina-stiftung-forschung-foerdern-zukunft-gestalten-7441392332266582151.html
END:VEVENT
END:VCALENDAR