BEGIN:VCALENDAR
VERSION:2.0
PRODID:EVENTFROG//EVENT//ICAL
BEGIN:VEVENT
UID:20260421T204120Z-7441399747535992646@eventfrog.de
DTSTAMP:20260421T204120Z
DTSTART:20261009T170000Z
DTEND:20261009T210000Z
SUMMARY:Das perfekte Schlager Dinner Thurnau – Live Show & Musik
DESCRIPTION:Das perfekte Schlager Dinner in Thurnau: Interaktive Dinnershow mit Live-Musik, den größten Schlagerhits und Mehrgangmenü. Mitsingen, mitfeiern und genießen!\n\nhttps://eventfrog.de/de/p/konzerte/pop-rock/das-perfekte-schlager-dinner-thurnau-live-show-musik-7441399747535992646.html
LOCATION:Schloss Thurnau
GEO:50.024621;11.396028
URL:https://eventfrog.de/de/p/konzerte/pop-rock/das-perfekte-schlager-dinner-thurnau-live-show-musik-7441399747535992646.html
END:VEVENT
END:VCALENDAR