BEGIN:VCALENDAR
VERSION:2.0
PRODID:EVENTFROG//EVENT//ICAL
BEGIN:VEVENT
UID:20260421T203943Z-7441401964028521867@eventfrog.de
DTSTAMP:20260421T203943Z
DTSTART:20261017T170000Z
DTEND:20261017T210000Z
SUMMARY:Das perfekte Schlager Dinner Ludwigsburg – Live Show & Musik
DESCRIPTION:Das perfekte Schlager Dinner in Ludwigsburg: Interaktive Dinnershow mit Live-Musik, den größten Schlagerhits und Mehrgangmenü. Mitsingen, mitfeiern und genießen!\n\nhttps://eventfrog.de/de/p/konzerte/pop-rock/das-perfekte-schlager-dinner-ludwigsburg-live-show-musik-7441401964028521867.html
LOCATION:Ratskeller
GEO:48.896181;9.188479
URL:https://eventfrog.de/de/p/konzerte/pop-rock/das-perfekte-schlager-dinner-ludwigsburg-live-show-musik-7441401964028521867.html
END:VEVENT
END:VCALENDAR