BEGIN:VCALENDAR
VERSION:2.0
PRODID:EVENTFROG//EVENT//ICAL
BEGIN:VEVENT
UID:20260421T180554Z-7441404298276161735@eventfrog.de
DTSTAMP:20260421T180554Z
DTSTART:20260528T094500Z
DTEND:20260528T101500Z
SUMMARY:Rechtliche Grundlagen und Tipps zur Hilfsmittelversorgung
DESCRIPTION:Dr. Michael Richter erläutert im Vortrag rechtliche Grundlagen und Trends der Hilfsmittelversorgung mit praktischen Tipps.\n\nhttps://eventfrog.de/de/p/fuehrungen-vortraege/vortrag/rechtliche-grundlagen-und-tipps-zur-hilfsmittelversorgung-7441404298276161735.html
LOCATION:Hybrid - Online oder Kap Europa, Frankfurt a.M.
URL:https://eventfrog.de/de/p/fuehrungen-vortraege/vortrag/rechtliche-grundlagen-und-tipps-zur-hilfsmittelversorgung-7441404298276161735.html
END:VEVENT
END:VCALENDAR