BEGIN:VCALENDAR
VERSION:2.0
PRODID:EVENTFROG//EVENT//ICAL
BEGIN:VEVENT
UID:20260421T194738Z-7441451990020790730@eventfrog.de
DTSTAMP:20260421T194738Z
DTSTART:20270122T180000Z
DTEND:20270122T220000Z
SUMMARY:Das perfekte ABBA Dinner Untergruppenbach – Live Show & Musi
DESCRIPTION:Das perfekte ABBA Dinner in Untergruppenbach: Interaktive Dinnershow mit Live-Musik, den größten ABBA-Hits und Mehrgangmenü. Mitsingen, mitfeiern und genießen!\n\nhttps://eventfrog.de/de/p/konzerte/pop-rock/das-perfekte-abba-dinner-untergruppenbach-live-show-musi-7441451990020790730.html
LOCATION:Burg Stettenfels 
GEO:49.091326;9.276028
URL:https://eventfrog.de/de/p/konzerte/pop-rock/das-perfekte-abba-dinner-untergruppenbach-live-show-musi-7441451990020790730.html
END:VEVENT
END:VCALENDAR