BEGIN:VCALENDAR
VERSION:2.0
PRODID:EVENTFROG//EVENT//ICAL
BEGIN:VEVENT
UID:20260421T204048Z-7441458139902274734@eventfrog.de
DTSTAMP:20260421T204048Z
DTSTART:20270205T180000Z
DTEND:20270205T220000Z
SUMMARY:Das perfekte Schlager Dinner Achern – Live Show & Musik
DESCRIPTION:Das perfekte Schlager Dinner in Achern: Humorvolle Dinnershow mit Live-Musik, den größten Schlagerhits und Mehrgangmenü. Mitsingen, lachen und genießen!\n\nhttps://eventfrog.de/de/p/konzerte/schlager-volksmusik/das-perfekte-schlager-dinner-achern-live-show-musik-7441458139902274734.html
LOCATION:SCHECK-IN Kochfabrik
GEO:48.627659;8.054717
URL:https://eventfrog.de/de/p/konzerte/schlager-volksmusik/das-perfekte-schlager-dinner-achern-live-show-musik-7441458139902274734.html
END:VEVENT
END:VCALENDAR