BEGIN:VCALENDAR
VERSION:2.0
PRODID:EVENTFROG//EVENT//ICAL
BEGIN:VEVENT
UID:20260422T115224Z-7441808460717515510@eventfrog.de
DTSTAMP:20260422T115224Z
DTSTART:20260502T100000Z
DTEND:20260502T140000Z
SUMMARY:Yu-Gi-Oh! Core Booster Premiere! zu Blazing Dominion
DESCRIPTION:Turnier mit 5 Boostern (deutsch) Sealed Deck Format. Gewinner erhält Spielmatte, weitere werden zufällig vergeben. 24 Teilnehmer.\n\nhttps://eventfrog.de/de/p/freizeit-ausfluege/gruppen-spiele/yu-gi-oh-core-booster-premiere-zu-blazing-dominion-7441808460717515510.html
LOCATION:FUNtainment Berlin
GEO:52.514541;13.469291
URL:https://eventfrog.de/de/p/freizeit-ausfluege/gruppen-spiele/yu-gi-oh-core-booster-premiere-zu-blazing-dominion-7441808460717515510.html
END:VEVENT
END:VCALENDAR