BEGIN:VCALENDAR
VERSION:2.0
PRODID:EVENTFROG//EVENT//ICAL
BEGIN:VEVENT
UID:20260422T114242Z-7441886779404203750@eventfrog.de
DTSTAMP:20260422T114242Z
DTSTART:20260423T180000Z
SUMMARY:Sneak Peak - Spieleabend
DESCRIPTION:Im HdO gibt es einen Spieleabend mit neuen und klassischen Gesellschaftsspielen, Snacks und Getränken für alle Gäste.\n\nhttps://eventfrog.de/de/p/freizeit-ausfluege/gruppen-spiele/sneak-peak-spieleabend-7441886779404203750.html
LOCATION:Haus der Offiziere
GEO:52.412465;12.539366
URL:https://eventfrog.de/de/p/freizeit-ausfluege/gruppen-spiele/sneak-peak-spieleabend-7441886779404203750.html
END:VEVENT
END:VCALENDAR