BEGIN:VCALENDAR
VERSION:2.0
PRODID:EVENTFROG//EVENT//ICAL
BEGIN:VEVENT
UID:20260419T182423Z-7441888381414427625@eventfrog.de
DTSTAMP:20260419T182423Z
DTSTART:20260807T180000Z
DTEND:20260807T210000Z
SUMMARY:Uli Kirsch singt Irish Folk
DESCRIPTION:Irish Folk voller Gefühl!\nVon mitreißenden Rebelsongs bis hin zu berührenden Balladen - dieses Programm bringt die ganze Seele Irlands auf die Bühne.\n\nhttps://eventfrog.de/de/p/konzerte/folk/uli-kirsch-singt-irish-folk-7441888381414427625.html
LOCATION:Das  Eck der Kulturbanausen
GEO:53.858442;11.184500
URL:https://eventfrog.de/de/p/konzerte/folk/uli-kirsch-singt-irish-folk-7441888381414427625.html
END:VEVENT
END:VCALENDAR