BEGIN:VCALENDAR
VERSION:2.0
PRODID:EVENTFROG//EVENT//ICAL
BEGIN:VEVENT
UID:20260425T040718Z-7442137464678939113@eventfrog.de
DTSTAMP:20260425T040718Z
DTSTART:20260428T090000Z
DTEND:20260428T100000Z
SUMMARY:Kirchliche Immobilien neu denken​
DESCRIPTION:Transformation gemeinsam gestalten\n\nhttps://eventfrog.de/de/p/diverses/kirchliche-immobilien-neu-denken-7442137464678939113.html
LOCATION:Webinar
URL:https://eventfrog.de/de/p/diverses/kirchliche-immobilien-neu-denken-7442137464678939113.html
END:VEVENT
END:VCALENDAR