BEGIN:VCALENDAR
VERSION:2.0
PRODID:EVENTFROG//EVENT//ICAL
BEGIN:VEVENT
UID:20260425T142532Z-7442144882020353516@eventfrog.de
DTSTAMP:20260425T142532Z
DTSTART:20261113T080000Z
DTEND:20261113T150000Z
SUMMARY:GLÜCK Seminar
DESCRIPTION:Dieses Seminar zeigt, was wirklich glücklich macht: Erkenntnisse der Glücksforschung und praktische Übungen stärken Achtsamkeit, Selbstwirksamkeit und Zufriedenheit im Alltag.\n\nhttps://eventfrog.de/de/p/gesundheit-spiritualitaet/gesundheit-wohlbefinden/glueck-seminar-7442144882020353516.html
LOCATION:ASB-Schulen Bayern gGmbH
GEO:49.509250;11.288377
URL:https://eventfrog.de/de/p/gesundheit-spiritualitaet/gesundheit-wohlbefinden/glueck-seminar-7442144882020353516.html
END:VEVENT
END:VCALENDAR