BEGIN:VCALENDAR
VERSION:2.0
PRODID:EVENTFROG//EVENT//ICAL
BEGIN:VEVENT
UID:20260421T180433Z-7442157521266020484@eventfrog.de
DTSTAMP:20260421T180433Z
DTSTART:20260529T080000Z
DTEND:20260529T090000Z
SUMMARY:Besser BBW# - Perspektiven in der beruflichen Rehabilitation
DESCRIPTION:Berufsbildungswerke Chemnitz, Stuttgart und Soest präsentieren im Vortrag von Christof Marquet Perspektiven der beruflichen Rehabilitation.\n\nhttps://eventfrog.de/de/p/fuehrungen-vortraege/vortrag/besser-bbw-perspektiven-in-der-beruflichen-rehabilitation-7442157521266020484.html
LOCATION:Hybrid - Online oder Kap Europa, Frankfurt a.M.
URL:https://eventfrog.de/de/p/fuehrungen-vortraege/vortrag/besser-bbw-perspektiven-in-der-beruflichen-rehabilitation-7442157521266020484.html
END:VEVENT
END:VCALENDAR