BEGIN:VCALENDAR
VERSION:2.0
PRODID:EVENTFROG//EVENT//ICAL
BEGIN:VEVENT
UID:20260421T180647Z-7442161828904364769@eventfrog.de
DTSTAMP:20260421T180647Z
DTSTART:20260529T093000Z
DTEND:20260529T113000Z
SUMMARY:Block zu genetischen Erkrankungen
DESCRIPTION:Experten informieren über Vererbung, Diagnostik, Therapien und Beratung bei erblichen Netzhauterkrankungen.\n\nhttps://eventfrog.de/de/p/fuehrungen-vortraege/vortrag/block-zu-genetischen-erkrankungen-7442161828904364769.html
LOCATION:Hybrid - Online oder Kap Europa, Frankfurt a.M.
URL:https://eventfrog.de/de/p/fuehrungen-vortraege/vortrag/block-zu-genetischen-erkrankungen-7442161828904364769.html
END:VEVENT
END:VCALENDAR