BEGIN:VCALENDAR
VERSION:2.0
PRODID:EVENTFROG//EVENT//ICAL
BEGIN:VEVENT
UID:20260421T180336Z-7442162849923735773@eventfrog.de
DTSTAMP:20260421T180336Z
DTSTART:20260529T113000Z
DTEND:20260529T120000Z
SUMMARY:Wissenschaft und Forschung gut erklärt
DESCRIPTION:Der Podcast Retina View erklärt Forschungsthemen wie Humangenetik, Transplantation und Immunologie verständlich mit Experten als Gästen.\n\nhttps://eventfrog.de/de/p/fuehrungen-vortraege/vortrag/wissenschaft-und-forschung-gut-erklaert-7442162849923735773.html
LOCATION:Hybrid - Online oder Kap Europa, Frankfurt a.M.
URL:https://eventfrog.de/de/p/fuehrungen-vortraege/vortrag/wissenschaft-und-forschung-gut-erklaert-7442162849923735773.html
END:VEVENT
END:VCALENDAR