BEGIN:VCALENDAR
VERSION:2.0
PRODID:EVENTFROG//EVENT//ICAL
BEGIN:VEVENT
UID:20260422T114243Z-7442194918376735409@eventfrog.de
DTSTAMP:20260422T114243Z
DTSTART:20260502T090000Z
DTEND:20260502T150000Z
SUMMARY:Riftbound - Unleashed Prerelease Event
DESCRIPTION:Magic Booster Draft startet um 11 Uhr mit 48 Teilnehmern, Startgeld 40 , Preise: 1 Teilnahmebooster. Anmeldung bis 10:55 Uhr.\n\nhttps://eventfrog.de/de/p/freizeit-ausfluege/gruppen-spiele/riftbound-unleashed-prerelease-event-7442194918376735409.html
LOCATION:FUNtainment Berlin
GEO:52.514541;13.469291
URL:https://eventfrog.de/de/p/freizeit-ausfluege/gruppen-spiele/riftbound-unleashed-prerelease-event-7442194918376735409.html
END:VEVENT
END:VCALENDAR