BEGIN:VCALENDAR
VERSION:2.0
PRODID:EVENTFROG//EVENT//ICAL
BEGIN:VEVENT
UID:20260422T181522Z-7442509603093372470@eventfrog.de
DTSTAMP:20260422T181522Z
DTSTART:20260516T110000Z
SUMMARY:Beat-Production mit Ableton
DESCRIPTION:Jugendliche ab 14 lernen an zwei Tagen mit Ableton Live Beats zu produzieren. Kurs gratis, Anmeldung über VHS Friesland-Wittmund.\n\nhttps://eventfrog.de/de/p/kurse-seminare/musik-tanz/beat-production-mit-ableton-7442509603093372470.html
LOCATION:LOK Kulturzentrum Jever
GEO:53.567752;7.895716
URL:https://eventfrog.de/de/p/kurse-seminare/musik-tanz/beat-production-mit-ableton-7442509603093372470.html
END:VEVENT
END:VCALENDAR