BEGIN:VCALENDAR
VERSION:2.0
PRODID:EVENTFROG//EVENT//ICAL
BEGIN:VEVENT
UID:20260425T124209Z-7442602196972097532@eventfrog.de
DTSTAMP:20260425T124209Z
DTSTART:20260428T181500Z
DTEND:20260428T193000Z
SUMMARY:The healing journey - 2. Gruppe ab 12.05.26
DESCRIPTION:Die 6-teilige Breathwork-Serie «healing journey» unterstützt Frauen in einer kleinen Gruppe, sich in sicherem Rahmen neu zu finden.\n\nhttps://eventfrog.de/de/p/gesundheit-spiritualitaet/gesundheit-wohlbefinden/the-healing-journey-2-gruppe-ab-12-05-26-7442602196972097532.html
LOCATION:Kleine Amalie
GEO:53.138820;8.220037
URL:https://eventfrog.de/de/p/gesundheit-spiritualitaet/gesundheit-wohlbefinden/the-healing-journey-2-gruppe-ab-12-05-26-7442602196972097532.html
END:VEVENT
END:VCALENDAR