BEGIN:VCALENDAR
VERSION:2.0
PRODID:EVENTFROG//EVENT//ICAL
BEGIN:VEVENT
UID:20260421T120212Z-7442661106554799844@eventfrog.de
DTSTAMP:20260421T120212Z
DTSTART:20260428T170000Z
SUMMARY:ELMa - Kostenloser Lastenradverleih in Mainz
DESCRIPTION:Wie funktioniert die Lastenradinitiative ELMa aus Mainz? Welche Erfahrungen haben die Organisatoren in den Jahren seit der Gründung gemacht? Welche Tipps gibt es für Menschen, die einen ähnlichen Last\n\nhttps://eventfrog.de/de/p/fuehrungen-vortraege/vortrag/elma-kostenloser-lastenradverleih-in-mainz-7442661106554799844.html
LOCATION:Online event
URL:https://eventfrog.de/de/p/fuehrungen-vortraege/vortrag/elma-kostenloser-lastenradverleih-in-mainz-7442661106554799844.html
END:VEVENT
END:VCALENDAR