BEGIN:VCALENDAR
VERSION:2.0
PRODID:EVENTFROG//EVENT//ICAL
BEGIN:VEVENT
UID:20260421T101948Z-7442663055064854558@eventfrog.de
DTSTAMP:20260421T101948Z
DTSTART:20260423T170000Z
SUMMARY:Landauer Leerstandsinitiative - gemeinsam gegen Leerstand!
DESCRIPTION:Der Vortrag erläutert, wie die Landauer Leerstandsinitiative leerstehende Räume nutzt und Gemeinschaft durch Umnutzung stärkt.\n\nhttps://eventfrog.de/de/p/fuehrungen-vortraege/vortrag/landauer-leerstandsinitiative-gemeinsam-gegen-leerstand-7442663055064854558.html
LOCATION:Online event
URL:https://eventfrog.de/de/p/fuehrungen-vortraege/vortrag/landauer-leerstandsinitiative-gemeinsam-gegen-leerstand-7442663055064854558.html
END:VEVENT
END:VCALENDAR