BEGIN:VCALENDAR
VERSION:2.0
PRODID:EVENTFROG//EVENT//ICAL
BEGIN:VEVENT
UID:20260422T230448Z-7442700491656567112@eventfrog.de
DTSTAMP:20260422T230448Z
DTSTART:20260425T170000Z
SUMMARY:Britischer Abend - Hughenden Manor
DESCRIPTION:Film- und Fotopräsentation beim Britischen Abend am Samstag, dem 25. April 2026 ab 19.00 Uhr (Einlass und kulinarische Köstlichkeiten ab 18.00 Uhr) im Forum St. Peter, Auf dem Kalk 9, in Montabaur. \n\nhttps://eventfrog.de/de/p/diverses/britischer-abend-hughenden-manor-7442700491656567112.html
LOCATION:Forum St. Peter, Montabaur
GEO:50.432393;7.836233
URL:https://eventfrog.de/de/p/diverses/britischer-abend-hughenden-manor-7442700491656567112.html
END:VEVENT
END:VCALENDAR