BEGIN:VCALENDAR
VERSION:2.0
PRODID:EVENTFROG//EVENT//ICAL
BEGIN:VEVENT
UID:20260425T230351Z-7442703131853483435@eventfrog.de
DTSTAMP:20260425T230351Z
DTSTART:20260513T170000Z
DTEND:20260513T190000Z
SUMMARY:St.Gallen – Eine Stadt in Lieblingstexten
DESCRIPTION:Ostschweizer Literaturgespräch #23\n\nhttps://eventfrog.de/de/p/theater-buehne/st-gallen-eine-stadt-in-lieblingstexten-7442703131853483435.html
LOCATION:DenkBar
GEO:47.423897;9.376600
URL:https://eventfrog.de/de/p/theater-buehne/st-gallen-eine-stadt-in-lieblingstexten-7442703131853483435.html
END:VEVENT
END:VCALENDAR