BEGIN:VCALENDAR
VERSION:2.0
PRODID:EVENTFROG//EVENT//ICAL
BEGIN:VEVENT
UID:20260426T000914Z-7442847002583409982@eventfrog.de
DTSTAMP:20260426T000914Z
DTSTART:20261204T191500Z
DTEND:20261204T214500Z
SUMMARY:The Jungle (CH)
DESCRIPTION:Eine musikalische Zeitreise von den 90ern bis heute – nach fulminantem Comeback und Chartentry #3 jetzt wieder live auf ausgewählten Bühnen!\n\nhttps://eventfrog.de/de/p/konzerte/pop-rock/the-jungle-ch-7442847002583409982.html
LOCATION:Gaswerk Eventbar GmbH
GEO:47.029782;8.629096
URL:https://eventfrog.de/de/p/konzerte/pop-rock/the-jungle-ch-7442847002583409982.html
END:VEVENT
END:VCALENDAR