BEGIN:VCALENDAR
VERSION:2.0
PRODID:EVENTFROG//EVENT//ICAL
BEGIN:VEVENT
UID:20260424T083508Z-7442968993302860738@eventfrog.de
DTSTAMP:20260424T083508Z
DTSTART:20260509T170000Z
DTEND:20260509T200000Z
SUMMARY:OneHSLU Fest Bierpongturnier 2026
DESCRIPTION:Das Bierpongturnier am OneHSLU Fest beginnt um 19 Uhr in der grossen Halle im Südpol. Anmeldung bis 18:45 Uhr in der Shedhalle.\n\nhttps://eventfrog.de/de/p/sport-fitness/ballsport/onehslu-fest-bierpongturnier-2026-7442968993302860738.html
LOCATION:Südpol
GEO:47.032800;8.296980
URL:https://eventfrog.de/de/p/sport-fitness/ballsport/onehslu-fest-bierpongturnier-2026-7442968993302860738.html
END:VEVENT
END:VCALENDAR