BEGIN:VCALENDAR
VERSION:2.0
PRODID:EVENTFROG//EVENT//ICAL
BEGIN:VEVENT
UID:20260422T001427Z-7443204593008294681@eventfrog.de
DTSTAMP:20260422T001427Z
DTSTART:20260522T150000Z
DTEND:20260524T210000Z
SUMMARY:Altstadt Open Air Bonn
DESCRIPTION:Das Altstadt Open Air bietet an Pfingsten kostenlose Musik, Kinderprogramm, Foodtrucks und Aftershow-Partys auf dem Frankenbadplatz in Bonn.\n\nhttps://eventfrog.de/de/p/festivals/weitere-festivals/altstadt-open-air-bonn-7443204593008294681.html
LOCATION:Frankenbadplatz
GEO:50.739159;7.088306
URL:https://eventfrog.de/de/p/festivals/weitere-festivals/altstadt-open-air-bonn-7443204593008294681.html
END:VEVENT
END:VCALENDAR