BEGIN:VCALENDAR
VERSION:2.0
PRODID:EVENTFROG//EVENT//ICAL
BEGIN:VEVENT
UID:20260421T212826Z-7443401513379081140@eventfrog.de
DTSTAMP:20260421T212826Z
DTSTART:20260627T180000Z
DTEND:20260628T030000Z
SUMMARY:Revivalparty Centre Ville
DESCRIPTION:Party des Jahres in Krefeld mit der ersten Revival Party des Centre Ville \n\nhttps://eventfrog.de/de/p/partys/sonstige-partys/revivalparty-centre-ville-7443401513379081140.html
LOCATION:PURPLE PEARLS
GEO:51.330323;6.579082
URL:https://eventfrog.de/de/p/partys/sonstige-partys/revivalparty-centre-ville-7443401513379081140.html
END:VEVENT
END:VCALENDAR