BEGIN:VCALENDAR
VERSION:2.0
PRODID:EVENTFROG//EVENT//ICAL
BEGIN:VEVENT
UID:20260426T035151Z-7444314959645817882@eventfrog.de
DTSTAMP:20260426T035151Z
DTSTART:20260426T090000Z
DTEND:20260426T150000Z
SUMMARY:Trödelmarkt Iserlohn, Hemberg
DESCRIPTION:Trödeln auf dem Hemberg Parkplatz \n\nhttps://eventfrog.de/de/p/maerkte/flohmarkt/troedelmarkt-iserlohn-hemberg-7444314959645817882.html
LOCATION:Hemberg-Parkplatz
GEO:51.392127;7.694098
URL:https://eventfrog.de/de/p/maerkte/flohmarkt/troedelmarkt-iserlohn-hemberg-7444314959645817882.html
END:VEVENT
END:VCALENDAR