BEGIN:VCALENDAR
VERSION:2.0
PRODID:EVENTFROG//EVENT//ICAL
BEGIN:VEVENT
UID:20260425T010724Z-7444369696126686088@eventfrog.de
DTSTAMP:20260425T010724Z
DTSTART:20260425T173000Z
DTEND:20260425T190000Z
SUMMARY:Das letzte Kind trägt Fell
DESCRIPTION:Sylvia Brécko zeigt  satirisch und musikalisch die besondere Beziehung von Mensch und Hund.\n\nhttps://eventfrog.de/de/p/theater-buehne/comedy-kabarett/das-letzte-kind-traegt-fell-7444369696126686088.html
LOCATION:Spiegelsaal
GEO:51.269177;12.502462
URL:https://eventfrog.de/de/p/theater-buehne/comedy-kabarett/das-letzte-kind-traegt-fell-7444369696126686088.html
END:VEVENT
END:VCALENDAR