BEGIN:VCALENDAR
VERSION:2.0
PRODID:EVENTFROG//EVENT//ICAL
BEGIN:VEVENT
UID:20260421T052416Z-7444677886794038903@eventfrog.de
DTSTAMP:20260421T052416Z
DTSTART:20260529T160000Z
DTEND:20260529T181500Z
SUMMARY:Alice in Wunderland - Tanzstudio Jockgrim
DESCRIPTION:Tanzaufführung\n\nhttps://eventfrog.de/de/p/theater-buehne/tanz/alice-in-wunderland-tanzstudio-jockgrim-7444677886794038903.html
LOCATION:Bürgerhaus Jockgrim
GEO:49.093638;8.272944
URL:https://eventfrog.de/de/p/theater-buehne/tanz/alice-in-wunderland-tanzstudio-jockgrim-7444677886794038903.html
END:VEVENT
END:VCALENDAR