BEGIN:VCALENDAR
VERSION:2.0
PRODID:EVENTFROG//EVENT//ICAL
BEGIN:VEVENT
UID:20260421T001456Z-7444691641330306569@eventfrog.de
DTSTAMP:20260421T001456Z
DTSTART:20260422T160000Z
DTEND:20260422T180000Z
SUMMARY:Mein Kind und Social Media: Zwischen Likes und Risiken
DESCRIPTION:Am 22.4.2026 bietet der AWO Stadtverband Neumünster ein kostenloses Online-Seminar zu sozialen Medien bei Kindern von 18-20 Uhr.\n\nhttps://eventfrog.de/de/p/kurse-seminare/sonstige-kurse-seminare/mein-kind-und-social-media-zwischen-likes-und-risiken-7444691641330306569.html
LOCATION:Online event
URL:https://eventfrog.de/de/p/kurse-seminare/sonstige-kurse-seminare/mein-kind-und-social-media-zwischen-likes-und-risiken-7444691641330306569.html
END:VEVENT
END:VCALENDAR