BEGIN:VCALENDAR
VERSION:2.0
PRODID:EVENTFROG//EVENT//ICAL
BEGIN:VEVENT
UID:20260420T015513Z-7444727033811199887@eventfrog.de
DTSTAMP:20260420T015513Z
DTSTART:20260508T173000Z
DTEND:20260508T193000Z
SUMMARY:Konzertprojekt – Ensemble „Das Kolorit“ aus Berlin eröffnet
DESCRIPTION:or 250 Jahren begab sich Burney auf eine ausgedehnte Europareise, um den „gegenwärtigen Zustand der Musik“ zu erkunden. Mit Empfehlungsschreiben im Gepäck traf er bedeutende Komponisten seiner Zeit – \n\nhttps://eventfrog.de/de/p/klassik-opern/klassik/konzertprojekt-ensemble-das-kolorit-aus-berlin-eroeffnet-7444727033811199887.html
LOCATION:Alte Kirche Körrenzig
GEO:51.001420;6.280752
URL:https://eventfrog.de/de/p/klassik-opern/klassik/konzertprojekt-ensemble-das-kolorit-aus-berlin-eroeffnet-7444727033811199887.html
END:VEVENT
END:VCALENDAR