BEGIN:VCALENDAR
VERSION:2.0
PRODID:EVENTFROG//EVENT//ICAL
BEGIN:VEVENT
UID:20260420T073300Z-7445003154834363631@eventfrog.de
DTSTAMP:20260420T073300Z
DTSTART:20260530T190000Z
SUMMARY:Depeche Mode
DESCRIPTION:Im Utopia gibt es eine Party mit New Wave und Hits von Depeche Mode, U2, Pet Shop Boys und weiteren Bands.\n\nhttps://eventfrog.de/de/p/partys/gothic-wave/depeche-mode-7445003154834363631.html
LOCATION:Utopia-Disco-Club
GEO:47.389672;8.052063
URL:https://eventfrog.de/de/p/partys/gothic-wave/depeche-mode-7445003154834363631.html
END:VEVENT
END:VCALENDAR