BEGIN:VCALENDAR
VERSION:2.0
PRODID:EVENTFROG//EVENT//ICAL
BEGIN:VEVENT
UID:20260420T080136Z-7445053398695588035@eventfrog.de
DTSTAMP:20260420T080136Z
DTSTART:20260424T160000Z
DTEND:20260424T210000Z
SUMMARY:Vortrag: Immobilien! Erfolgreich investieren
DESCRIPTION:Vortrag am 24.04.2026  18:00 Uhr.\n\nImmobilien richtig verstehen und erfolgreich investieren! Ehrlich und praxisnah. \n\nhttps://eventfrog.de/de/p/fuehrungen-vortraege/vortrag/vortrag-immobilien-erfolgreich-investieren-7445053398695588035.html
LOCATION:Rhönblick
GEO:50.593193;9.736412
URL:https://eventfrog.de/de/p/fuehrungen-vortraege/vortrag/vortrag-immobilien-erfolgreich-investieren-7445053398695588035.html
END:VEVENT
END:VCALENDAR