BEGIN:VCALENDAR
VERSION:2.0
PRODID:EVENTFROG//EVENT//ICAL
BEGIN:VEVENT
UID:20260421T095228Z-7445396405022121657@eventfrog.de
DTSTAMP:20260421T095228Z
DTSTART:20260424T180000Z
SUMMARY:Brilon-Premiere: Lennart Schilgen "Abwesenheitsnotizen"
DESCRIPTION:Mit dem neuen Live-Programm "Abwesenheitsnotizen" gastiert Lennart Schilgen am 24. April erstmalig in Brilon (Bürgerzentrum Kolpinghaus  Brilon-Premiere). \n\nhttps://eventfrog.de/de/p/theater-buehne/comedy-kabarett/brilon-premiere-lennart-schilgen-abwesenheitsnotizen-7445396405022121657.html
LOCATION:Bürgerzentrum Kolpinghaus
GEO:51.393942;8.567473
URL:https://eventfrog.de/de/p/theater-buehne/comedy-kabarett/brilon-premiere-lennart-schilgen-abwesenheitsnotizen-7445396405022121657.html
END:VEVENT
END:VCALENDAR