BEGIN:VCALENDAR
VERSION:2.0
PRODID:EVENTFROG//EVENT//ICAL
BEGIN:VEVENT
UID:20260425T193348Z-7445592848177596337@eventfrog.de
DTSTAMP:20260425T193348Z
DTSTART:20260511T183000Z
SUMMARY:Dälek
DESCRIPTION:Rap.\n\nhttps://eventfrog.de/de/p/konzerte/daelek-7445592848177596337.html
LOCATION:Palace
GEO:47.426620;9.373120
URL:https://eventfrog.de/de/p/konzerte/daelek-7445592848177596337.html
END:VEVENT
END:VCALENDAR