BEGIN:VCALENDAR
VERSION:2.0
PRODID:EVENTFROG//EVENT//ICAL
BEGIN:VEVENT
UID:20260423T002635Z-7446875843765226971@eventfrog.de
DTSTAMP:20260423T002635Z
DTSTART:20260620T080000Z
DTEND:20260620T190000Z
SUMMARY:Dwarfmasters Daggerheart Summer-Event
DESCRIPTION:Über 20 GMs, mehrere Räume, unzählige Abenteuer: Such dir deinen Tisch aus und spiele den ganzen Tag ein Daggerheart One-Shot mit dem GM deiner Wahl. Inklusive: Goodies, Verpflegung und vieles mehr.\n\nhttps://eventfrog.de/de/p/freizeit-ausfluege/gruppen-spiele/dwarfmasters-daggerheart-summer-event-7446875843765226971.html
LOCATION:Bürgerhaus Oststadt 
GEO:51.443960;7.102460
URL:https://eventfrog.de/de/p/freizeit-ausfluege/gruppen-spiele/dwarfmasters-daggerheart-summer-event-7446875843765226971.html
END:VEVENT
END:VCALENDAR