BEGIN:VCALENDAR
VERSION:2.0
PRODID:EVENTFROG//EVENT//ICAL
BEGIN:VEVENT
UID:20260424T084825Z-7447337666109014957@eventfrog.de
DTSTAMP:20260424T084825Z
DTSTART:20260911T180000Z
DTEND:20260911T200000Z
SUMMARY:Musikalischer Spaziergang Liederliche Nullrunde auf der Lauf
DESCRIPTION:Gabriel Kramer führt auf der Westseite der Laufenburger Acht mit Gitarre und Mundharmonika durch Lieder und eine dramatische Sage.\n\nhttps://eventfrog.de/de/p/fuehrungen-vortraege/fuehrung/musikalischer-spaziergang-liederliche-nullrunde-auf-der-lauf-7447337666109014957.html
LOCATION:Altstadt Laufenburg
GEO:47.563139;8.059969
URL:https://eventfrog.de/de/p/fuehrungen-vortraege/fuehrung/musikalischer-spaziergang-liederliche-nullrunde-auf-der-lauf-7447337666109014957.html
END:VEVENT
END:VCALENDAR