BEGIN:VCALENDAR
VERSION:2.0
PRODID:EVENTFROG//EVENT//ICAL
BEGIN:VEVENT
UID:20260425T162416Z-7447339888192579226@eventfrog.de
DTSTAMP:20260425T162416Z
DTSTART:20260427T063000Z
DTEND:20260427T153000Z
SUMMARY:ADAC Motorrad Intensiv-Training
DESCRIPTION:Trainieren Sie mit diesem ADAC Intensivtraining für mehr Fahrsicherheit auf zwei Rädern.\n\nhttps://eventfrog.de/de/p/kurse-seminare/coaching/adac-motorrad-intensiv-training-7447339888192579226.html
LOCATION:ADAC Fahrsicherheitszentrum Grevenbroich
GEO:51.083287;6.551566
URL:https://eventfrog.de/de/p/kurse-seminare/coaching/adac-motorrad-intensiv-training-7447339888192579226.html
END:VEVENT
END:VCALENDAR