BEGIN:VCALENDAR
VERSION:2.0
PRODID:EVENTFROG//EVENT//ICAL
BEGIN:VEVENT
UID:20260420T093551Z-7447542621851903514@eventfrog.de
DTSTAMP:20260420T093551Z
DTSTART:20260505T173000Z
DTEND:20260505T215900Z
SUMMARY:Karaoke
DESCRIPTION:Jeden Dienstag lädt Lady Hamilton’s Pub Zürich zur Karaoke Night ein - für alle, die ihre Lieblingssongs vor Publikum singen wollen.\n\nhttps://eventfrog.de/de/p/partys/karaoke/karaoke-7447542621851903514.html
LOCATION:Lady Hamilton's Pub
GEO:47.375704;8.540026
URL:https://eventfrog.de/de/p/partys/karaoke/karaoke-7447542621851903514.html
END:VEVENT
END:VCALENDAR